BEGIN:VCALENDAR
VERSION:2.0
PRODID:-//hacksw/handcal//NONSGML v1.0//EN
BEGIN:VEVENT
SUMMARY:LA LOUBESIENNE
UID:88dabd9d-bfb4-4456-a5bc-a9be390dd102
DTSTART:20260425T113000Z
DTEND:20260425T220000Z
LOCATION:Localisation   
CATEGORIES:Sportif
STATUS:
DESCRIPTION:<p style="text-align:justify;"><em><strong><span
 style="font-size:14px;">Les inscriptions demarreront a partir de
 12h30 au gymnase du college Max Linder situe 15 avenue de Cajus a
 St-Loubes. Depart libre de la randonnee a partir de
 13h30.</span></strong></em></p>
 
 <p
 style="text-align:justify;"><em><strong><span
 style="font-size:14px;">Les 3 parcours de 100, 75 et 50 kms seront
 fleches en jaune fluo. Pour les parcours des 75 et 100km, un
 ravitaillement sera prevu a Romagne et pour le parcours de 50 km a
 Cursan. A l’arrivee, une collation vous
 attendra.</span></strong></em></p>
URL;VALUE=URI:https://www.cyclolibourne.fr/evenements/2026/04/25/la-loubesienne-2441847
END:VEVENT
END:VCALENDAR
