BEGIN:VCALENDAR
VERSION:2.0
PRODID:-//hacksw/handcal//NONSGML v1.0//EN
BEGIN:VEVENT
SUMMARY:MAI A VELO
UID:ddac2b43-acd6-47d7-b549-c057dd7c80a6
DTSTART:20260502T113000Z
DTEND:20260502T220000Z
LOCATION:Localisation   
CATEGORIES:Sportif
STATUS:
URL;VALUE=URI:https://www.cyclolibourne.fr/evenements/2026/05/02/mai-a-velo-2442071
END:VEVENT
END:VCALENDAR
