BEGIN:VCALENDAR
VERSION:2.0
PRODID:-//hacksw/handcal//NONSGML v1.0//EN
BEGIN:VEVENT
SUMMARY:RANDONNEE LANGON
UID:944cb797-ca7d-4191-8acd-734da83bc60b
DTSTART:20260510T053000Z
DTEND:20260510T120000Z
LOCATION:Localisation   
CATEGORIES:Sportif
STATUS:
URL;VALUE=URI:https://www.cyclolibourne.fr/evenements/2026/05/10/randonnee-langon-2440795
END:VEVENT
END:VCALENDAR
