BEGIN:VCALENDAR
VERSION:2.0
PRODID:-//hacksw/handcal//NONSGML v1.0//EN
BEGIN:VEVENT
SUMMARY:SORTIE EN AUTONOMIE EN DORDOGNE
UID:a7a84986-5610-47e5-bece-dfe12b81c10b
DTSTART:20260910T220000Z
DTEND:20260912T220000Z
LOCATION:Localisation   
CATEGORIES:Sportif
STATUS:
DESCRIPTION:<p><span style="font-size:14px;"><em><strong>Sortie cyclo
 sur 2 jours, diner et nuit en hotel, le vendredi 11 et le samedi 12
 septembre (en autonomie, pas de fourgon suiveur). La destination est
 l’hotel l’Etang des Reynats a Chancelade, pres de Perigueux, avec
 un parcours aller et un parcours retour differents, d’environ 100
 kms chacun. Le cout tout compris est de 90€ maximum, selon le
 nombre de participants.</strong></em></span></p>
URL;VALUE=URI:https://www.cyclolibourne.fr/evenements/2026/09/11/sortie-en-autonomie-en-dordogne-2435651
END:VEVENT
END:VCALENDAR
